BEGIN:VCALENDAR
VERSION:2.0
PRODID:-//Waltham Boys &amp; Girls Club - ECPv6.10.2//NONSGML v1.0//EN
CALSCALE:GREGORIAN
METHOD:PUBLISH
X-ORIGINAL-URL:https://walthambgc.org
X-WR-CALDESC:Events for Waltham Boys &amp; Girls Club
REFRESH-INTERVAL;VALUE=DURATION:PT1H
X-Robots-Tag:noindex
X-PUBLISHED-TTL:PT1H
BEGIN:VTIMEZONE
TZID:America/New_York
BEGIN:DAYLIGHT
TZOFFSETFROM:-0500
TZOFFSETTO:-0400
TZNAME:EDT
DTSTART:20250309T070000
END:DAYLIGHT
BEGIN:STANDARD
TZOFFSETFROM:-0400
TZOFFSETTO:-0500
TZNAME:EST
DTSTART:20251102T060000
END:STANDARD
END:VTIMEZONE
BEGIN:VEVENT
DTSTART;TZID=America/New_York:20250404T160000
DTEND;TZID=America/New_York:20250404T170000
DTSTAMP:20260421T060153
CREATED:20250228T161505Z
LAST-MODIFIED:20250228T161505Z
UID:6421-1743782400-1743786000@walthambgc.org
SUMMARY:Youth of the Year
DESCRIPTION:Get ready to celebrate the incredible young leaders of our community! Join us as we reveal the 2025 Waltham Youth of the Year. These outstanding nominees have gone above and beyond\, showing exceptional character\, leadership\, and a true commitment to making Waltham a better place. Let’s honor their passion\, dedication\, and the positive impact they’ve made in our community!
URL:https://walthambgc.org/event/youth-of-the-year/
LOCATION:Waltham Boys & Girls Club\, 20 Exchange St\, Waltham\, MA\, 02451\, United States
END:VEVENT
END:VCALENDAR